BEGIN:VCALENDAR
VERSION:2.0
PRODID:icalendar-ruby
CALSCALE:GREGORIAN
METHOD:PUBLISH
BEGIN:VEVENT
DTSTAMP:20260421T111721Z
UID:631-1868263@standrewskamloops.com
DTSTART:20260509T210000Z
DTEND:20260509T220000Z
CLASS:PUBLIC
CREATED:20260414T140724
DESCRIPTION:This event is free of charge!\nPlease register on the sign-up s
 heet at coffee hour after the service\, by Sunday\, May 3rd.
LAST-MODIFIED:20260414T140724
LOCATION:Lower Hall
SUMMARY:Ladies' Mother's Day Tea
URL;VALUE=URI:https://www.standrewskamloops.com/events/ladies-mothers-day-t
 ea/2026-05-09
ATTACH;FILENAME=Ladies-Mothers-Day-Tea-event-1.jpeg;FMTTYPE=image/jpeg:http
 s://dq5pwpg1q8ru0.cloudfront.net/2026/04/14/21/06/03/1a8d0d4d-0663-465a-b8
 b1-139ad10e910c/Ladies-Mothers-Day-Tea-event-1.jpeg
END:VEVENT
END:VCALENDAR
