BEGIN:VCALENDAR
VERSION:2.0
PRODID:icalendar-ruby
CALSCALE:GREGORIAN
METHOD:PUBLISH
BEGIN:VEVENT
DTSTAMP:20260424T215531Z
UID:633-1938498@standrewskamloops.com
DTSTART:20260426T170000Z
DTEND:20260426T180000Z
CLASS:PUBLIC
CREATED:20260424T112626
DESCRIPTION:Welcome to St. Andrew's! We would love to have you join us this
  Sunday. In addition to attending in person\, you can stream the service 
 live HERE on Facebook or HERE on our website. \nWelcome to today's wo
 rship leaders\, Marion D and Curtis. Our elder is Jarrett\, and our reader
  is Nana. \nOrder of Service\nWelcome\nCall to Worship (Ps 30\, Acts 9)\n
 \nWe have travelled from the horror of Good Friday\nto the joy and celebra
 tion of Easter.\nWe will give thanks to you forever\, O God.\nThe Lord has
  turned our sorrow and sadness into dancing and joy.\nWe will give thanks 
 to you forever\, O God.\nWe come now to worship the one who transforms fea
 r into resurrection love.\nWe will give thanks to you forever\, O God.\n\n
 Opening Hymn: "Christ The Lord Is Risen Today" #247 (Public Domain)\nOpeni
 ng Prayers\nChildren's Story\nChoruses: "Amazing Grace (My Chains Are Gone
 )" (Tomlin\, Newton\, Giglio) &amp\; "I Have Decided To Follow Jesus" #570
  (Rickard\, Unknown)\nScripture Lessons: Acts 9:1-19a\nSermon: "The Call 
 You Didn't Ask For"\nHymn: "Just as I am" #682 (Elliott\, Bradbury)\nOffer
 ing &amp\; Doxology\nPrayers of the People (can be shared in comments of l
 ive feed)\nAnnouncements\n\nGreeters Workshop: Thanks to those who led an
 d participated last Sunday!\nDrums &amp\; Drama Group: Meet in the chance
 l after the Sunday service.\nZoom Bible Study: Meet online this Wednesday
  at 11:00 am.\nWomen's Bible Study: Join us at the church on Thursday at 
 11:30 am. Bring a bag lunch. \nA&amp\;W Study: Meeting this Thursday at
  7:00 pm.\nMembership/Enquirers Class: We are meeting again next Sunday\,
  May 3\, following the worship service.\nLadies' Mother's Day Tea: Saturd
 ay\, May 9\, at 2:00 pm. Please register on the sign-up sheet.\nVolunteers
  for NEXT Sunday: Kathy (elder)\, Mandy (reader)\, Krista (greeter)\, Ani
 ka (vocals)\, The (AV)\, Neil (sound)\nBirthdays &amp\; Anniversaries: Na
 na (Sunday\, April 19)\, Nigel (Monday\, April 20)\, Linda (Friday\, April
  24)\n\nHymn: "Be Thou My Vision" #461 (Hull\, Byrne)\nBenediction &amp\; 
 Amen
LAST-MODIFIED:20260424T112626
LOCATION:In-person & Online
SUMMARY:Sunday Worship Service
URL;VALUE=URI:https://www.standrewskamloops.com/events/sunday-worship-servi
 ce--633/2026-04-26
ATTACH;FILENAME=ChatGPT-Image-Apr-24-2026-09_36_50-AM.jpeg;FMTTYPE=image/jp
 eg:https://dq5pwpg1q8ru0.cloudfront.net/2026/04/24/18/06/04/27f3cf76-0e4e-
 46e4-83e7-9f7dc883a288/ChatGPT-Image-Apr-24-2026-09_36_50-AM.jpeg
END:VEVENT
END:VCALENDAR
