BEGIN:VCALENDAR
VERSION:2.0
PRODID:icalendar-ruby
CALSCALE:GREGORIAN
METHOD:PUBLISH
BEGIN:VEVENT
DTSTAMP:20260421T104352Z
UID:246-1914271@standrewskamloops.com
DTSTART:20261022T183000Z
DTEND:20261022T203000Z
CLASS:PUBLIC
CREATED:20260421T032215
DESCRIPTION:The Ladies’ Study on Philippians has begun. Dr. Marion Hannaf
 ord will be leading the discussion. Join us at the church on Thursday at 1
 1:30 am\, and bring a bag lunch. Newcomers are warmly welcome.\n"Writing w
 ith warmth and frankness\, Paul lays down important theological truths and
  uses them as the basis for transforming our lives and relationships. Ulti
 mately\, he shows how we can move from selfishness and self-confidence to 
 self-giving\, contentment\, and confidence in Christ."
LAST-MODIFIED:20260421T032215
LOCATION:Tea Room at St. Andrew's
SUMMARY:Women's Bible Study & Fellowship\, 11:30 am
URL;VALUE=URI:https://www.standrewskamloops.com/events/womens-bible-study-f
 ellowship-11-30-am--246/2026-10-22
ATTACH;FILENAME=book-1209805_1920.jpeg;FMTTYPE=image/jpeg:https://dq5pwpg1q
 8ru0.cloudfront.net/2021/02/21/11/44/26/6c2e97cf-c5c8-4b65-84e2-ccf0e963ee
 22/book-1209805_1920.jpeg
END:VEVENT
END:VCALENDAR
